BEGIN:VCALENDAR
VERSION:2.0
PRODID:-//American Health Education - ECPv6.15.20//NONSGML v1.0//EN
CALSCALE:GREGORIAN
METHOD:PUBLISH
X-ORIGINAL-URL:https://americanhealtheducation.com
X-WR-CALDESC:Events for American Health Education
REFRESH-INTERVAL;VALUE=DURATION:PT1H
X-Robots-Tag:noindex
X-PUBLISHED-TTL:PT1H
BEGIN:VTIMEZONE
TZID:UTC
BEGIN:STANDARD
TZOFFSETFROM:+0000
TZOFFSETTO:+0000
TZNAME:UTC
DTSTART:20220101T000000
END:STANDARD
END:VTIMEZONE
BEGIN:VEVENT
DTSTART;TZID=UTC:20231211T080000
DTEND;TZID=UTC:20231211T170000
DTSTAMP:20260420T051650
CREATED:20231211T101702Z
LAST-MODIFIED:20231211T101744Z
UID:1940-1702281600-1702314000@americanhealtheducation.com
SUMMARY:Livermore EMT Schedule:
DESCRIPTION:
URL:https://americanhealtheducation.com/event/livermore-emt-schedule/
CATEGORIES:Livermore EMT
END:VEVENT
END:VCALENDAR